BEGIN:VCALENDAR
VERSION:2.0
PRODID:-// - ECPv5.4.0//NONSGML v1.0//EN
CALSCALE:GREGORIAN
METHOD:PUBLISH
X-ORIGINAL-URL:https://tamworthpowerstationmuseum.com.au
X-WR-CALDESC:Events for 
BEGIN:VTIMEZONE
TZID:Australia/Sydney
BEGIN:STANDARD
TZOFFSETFROM:+1100
TZOFFSETTO:+1000
TZNAME:AEST
DTSTART:20180331T160000
END:STANDARD
BEGIN:DAYLIGHT
TZOFFSETFROM:+1000
TZOFFSETTO:+1100
TZNAME:AEDT
DTSTART:20181006T160000
END:DAYLIGHT
END:VTIMEZONE
BEGIN:VEVENT
DTSTART;TZID=Australia/Sydney:20180127T100000
DTEND;TZID=Australia/Sydney:20180127T160000
DTSTAMP:20210301T115139
CREATED:20171207T003245Z
LAST-MODIFIED:20171207T003737Z
UID:1572-1517047200-1517068800@tamworthpowerstationmuseum.com.au
SUMMARY:Country Music Festival 2018 - Steam Engines Firing
DESCRIPTION:Related
URL:https://tamworthpowerstationmuseum.com.au/event/tcmf-2018-steam-engines-firing-3/
LOCATION:Tamworth Powerstation Museum\, 216 Peel Street \, Tamworth\, NSW\, 2340\, Australia
END:VEVENT
END:VCALENDAR