BEGIN:VCALENDAR
VERSION:2.0
PRODID:-// - ECPv5.4.0//NONSGML v1.0//EN
CALSCALE:GREGORIAN
METHOD:PUBLISH
X-ORIGINAL-URL:https://tamworthpowerstationmuseum.com.au
X-WR-CALDESC:Events for 
BEGIN:VTIMEZONE
TZID:Australia/Sydney
BEGIN:STANDARD
TZOFFSETFROM:+1100
TZOFFSETTO:+1000
TZNAME:AEST
DTSTART:20180331T160000
END:STANDARD
BEGIN:DAYLIGHT
TZOFFSETFROM:+1000
TZOFFSETTO:+1100
TZNAME:AEDT
DTSTART:20181006T160000
END:DAYLIGHT
END:VTIMEZONE
BEGIN:VEVENT
DTSTART;TZID=Australia/Sydney:20180427T100000
DTEND;TZID=Australia/Sydney:20180427T160000
DTSTAMP:20210301T115240
CREATED:20180411T024922Z
LAST-MODIFIED:20180411T024922Z
UID:1609-1524823200-1524844800@tamworthpowerstationmuseum.com.au
SUMMARY:Steam Engines Running - Heritage Week Open Day
DESCRIPTION:Related
URL:https://tamworthpowerstationmuseum.com.au/event/steam-engines-running-heritage-week-open-day/
LOCATION:Tamworth Powerstation Museum\, 216 Peel Street \, Tamworth\, NSW\, 2340\, Australia
END:VEVENT
END:VCALENDAR