BEGIN:VCALENDAR
VERSION:2.0
PRODID:-// - ECPv5.4.0//NONSGML v1.0//EN
CALSCALE:GREGORIAN
METHOD:PUBLISH
X-ORIGINAL-URL:https://tamworthpowerstationmuseum.com.au
X-WR-CALDESC:Events for 
BEGIN:VTIMEZONE
TZID:Australia/Sydney
BEGIN:STANDARD
TZOFFSETFROM:+1100
TZOFFSETTO:+1000
TZNAME:AEST
DTSTART:20180331T160000
END:STANDARD
BEGIN:DAYLIGHT
TZOFFSETFROM:+1000
TZOFFSETTO:+1100
TZNAME:AEDT
DTSTART:20181006T160000
END:DAYLIGHT
END:VTIMEZONE
BEGIN:VEVENT
DTSTART;TZID=Australia/Sydney:20181109T090000
DTEND;TZID=Australia/Sydney:20181109T220000
DTSTAMP:20210301T115458
CREATED:20181009T064248Z
LAST-MODIFIED:20181017T012704Z
UID:1655-1541754000-1541800800@tamworthpowerstationmuseum.com.au
SUMMARY:STEAM ENGINES RUNNING - ALL DAY INTO NIGHT!
DESCRIPTION:As part of the Museum’s 130th Anniversary of the Switching on of the Lights\, the Mighty John Fowler Steam Engines will be running all day and into the night. Come down and see them in action! \nThe Museum will be open with guided tours from 9am to 10pm. \n  \n\n\n	Related
URL:https://tamworthpowerstationmuseum.com.au/event/steam-engines-running-all-day-into-night/
LOCATION:Tamworth Powerstation Museum\, 216 Peel Street \, Tamworth\, NSW\, 2340\, Australia
END:VEVENT
END:VCALENDAR