BEGIN:VCALENDAR
VERSION:2.0
PRODID:-// - ECPv5.4.0//NONSGML v1.0//EN
CALSCALE:GREGORIAN
METHOD:PUBLISH
X-ORIGINAL-URL:https://tamworthpowerstationmuseum.com.au
X-WR-CALDESC:Events for 
BEGIN:VTIMEZONE
TZID:Australia/Sydney
BEGIN:STANDARD
TZOFFSETFROM:+1100
TZOFFSETTO:+1000
TZNAME:AEST
DTSTART:20180331T160000
END:STANDARD
BEGIN:DAYLIGHT
TZOFFSETFROM:+1000
TZOFFSETTO:+1100
TZNAME:AEDT
DTSTART:20181006T160000
END:DAYLIGHT
END:VTIMEZONE
BEGIN:VEVENT
DTSTART;TZID=Australia/Sydney:20180427T103000
DTEND;TZID=Australia/Sydney:20180427T113000
DTSTAMP:20210301T115345
CREATED:20180411T023513Z
LAST-MODIFIED:20180411T093653Z
UID:1597-1524825000-1524828600@tamworthpowerstationmuseum.com.au
SUMMARY:Sophie Masson Public Reading
DESCRIPTION:During 2017\, author Sophie Masson spent some time with the Tamworth Powerstation Museum as part of the Stuff of Tales partnership project between Arts North West\, Museums Australia\, the New England Writers’ Centre and Bauer Media. She’ll be reading her story inspired by that\, ‘Turning on the Light’.  \n\n\n	Related
URL:https://tamworthpowerstationmuseum.com.au/event/sophie-masson-public-reading/
LOCATION:Tamworth Powerstation Museum\, 216 Peel Street \, Tamworth\, NSW\, 2340\, Australia
END:VEVENT
END:VCALENDAR