BEGIN:VCALENDAR
VERSION:2.0
PRODID:-// - ECPv5.4.0//NONSGML v1.0//EN
CALSCALE:GREGORIAN
METHOD:PUBLISH
X-ORIGINAL-URL:https://tamworthpowerstationmuseum.com.au
X-WR-CALDESC:Events for 
BEGIN:VTIMEZONE
TZID:Australia/Sydney
BEGIN:STANDARD
TZOFFSETFROM:+1100
TZOFFSETTO:+1000
TZNAME:AEST
DTSTART:20200404T160000
END:STANDARD
BEGIN:DAYLIGHT
TZOFFSETFROM:+1000
TZOFFSETTO:+1100
TZNAME:AEDT
DTSTART:20201003T160000
END:DAYLIGHT
END:VTIMEZONE
BEGIN:VEVENT
DTSTART;TZID=Australia/Sydney:20200318T080000
DTEND;TZID=Australia/Sydney:20200531T080000
DTSTAMP:20210301T112348
CREATED:20200317T041259Z
LAST-MODIFIED:20200317T041423Z
UID:2490-1584518400-1590912000@tamworthpowerstationmuseum.com.au
SUMMARY:Museum Closure
DESCRIPTION:Tamworth Powerstation Museum will be closed from Wednesday 18 March for the foreseeable future to help minimise the spread of COVID-19. \n For more information\, call 02 6767 5555. \n\n\n	Related
URL:https://tamworthpowerstationmuseum.com.au/event/museum-closure/
LOCATION:Tamworth Powerstation Museum\, 216 Peel Street \, Tamworth\, NSW\, 2340\, Australia
END:VEVENT
END:VCALENDAR