BEGIN:VCALENDAR
VERSION:2.0
PRODID:-// - ECPv5.4.0//NONSGML v1.0//EN
CALSCALE:GREGORIAN
METHOD:PUBLISH
X-ORIGINAL-URL:https://tamworthpowerstationmuseum.com.au
X-WR-CALDESC:Events for 
BEGIN:VTIMEZONE
TZID:Australia/Sydney
BEGIN:STANDARD
TZOFFSETFROM:+1100
TZOFFSETTO:+1000
TZNAME:AEST
DTSTART:20170401T160000
END:STANDARD
BEGIN:DAYLIGHT
TZOFFSETFROM:+1000
TZOFFSETTO:+1100
TZNAME:AEDT
DTSTART:20170930T160000
END:DAYLIGHT
BEGIN:STANDARD
TZOFFSETFROM:+1100
TZOFFSETTO:+1000
TZNAME:AEST
DTSTART:20180331T160000
END:STANDARD
BEGIN:DAYLIGHT
TZOFFSETFROM:+1000
TZOFFSETTO:+1100
TZNAME:AEDT
DTSTART:20181006T160000
END:DAYLIGHT
END:VTIMEZONE
BEGIN:VEVENT
DTSTART;TZID=Australia/Sydney:20171224T080000
DTEND;TZID=Australia/Sydney:20180103T090000
DTSTAMP:20210301T113441
CREATED:20171224T114826Z
LAST-MODIFIED:20171224T114826Z
UID:1580-1514102400-1514970000@tamworthpowerstationmuseum.com.au
SUMMARY:Holiday Closure
DESCRIPTION:The Museum will be closed from 24 December and reopen 3 January. \n\n\n	Related
URL:https://tamworthpowerstationmuseum.com.au/event/holiday-closure/
LOCATION:Tamworth Powerstation Museum\, 216 Peel Street \, Tamworth\, NSW\, 2340\, Australia
END:VEVENT
END:VCALENDAR