BEGIN:VCALENDAR
VERSION:2.0
PRODID:-// - ECPv5.4.0//NONSGML v1.0//EN
CALSCALE:GREGORIAN
METHOD:PUBLISH
X-ORIGINAL-URL:https://tamworthpowerstationmuseum.com.au
X-WR-CALDESC:Events for 
BEGIN:VTIMEZONE
TZID:Australia/Sydney
BEGIN:STANDARD
TZOFFSETFROM:+1100
TZOFFSETTO:+1000
TZNAME:AEST
DTSTART:20190406T160000
END:STANDARD
BEGIN:DAYLIGHT
TZOFFSETFROM:+1000
TZOFFSETTO:+1100
TZNAME:AEDT
DTSTART:20191005T160000
END:DAYLIGHT
END:VTIMEZONE
BEGIN:VEVENT
DTSTART;TZID=Australia/Sydney:20190425T090000
DTEND;TZID=Australia/Sydney:20190425T160000
DTSTAMP:20210301T112158
CREATED:20190410T052228Z
LAST-MODIFIED:20190410T055006Z
UID:1808-1556182800-1556208000@tamworthpowerstationmuseum.com.au
SUMMARY:Heritage Week Open Day - Free Entry and Steam Engines Running
DESCRIPTION:This ANZAC Day\, come along to the Powerstation Museum Open Day for a guided tour and experience the mighty John Fowler Steam Engines (the only two of their kind still operating in the world) in action (from 10am). Plus\, samples of the world’s first underground electric power cable are now on display at the Powerstation Museum as part of their newest exhibition. Come and explore Tamworth’s history as the First City of Light during the 2019 Tamworth Regional Heritage Festival. \n\n\n	Related
URL:https://tamworthpowerstationmuseum.com.au/event/heritage-week-open-day-free-entry-and-steam-engines-running/
LOCATION:Tamworth Powerstation Museum\, 216 Peel Street \, Tamworth\, NSW\, 2340\, Australia
END:VEVENT
END:VCALENDAR