BEGIN:VCALENDAR
VERSION:2.0
PRODID:-// - ECPv5.4.0//NONSGML v1.0//EN
CALSCALE:GREGORIAN
METHOD:PUBLISH
X-ORIGINAL-URL:https://tamworthpowerstationmuseum.com.au
X-WR-CALDESC:Events for 
BEGIN:VTIMEZONE
TZID:Australia/Sydney
BEGIN:STANDARD
TZOFFSETFROM:+1100
TZOFFSETTO:+1000
TZNAME:AEST
DTSTART:20170401T160000
END:STANDARD
BEGIN:DAYLIGHT
TZOFFSETFROM:+1000
TZOFFSETTO:+1100
TZNAME:AEDT
DTSTART:20170930T160000
END:DAYLIGHT
END:VTIMEZONE
BEGIN:VEVENT
DTSTART;TZID=Australia/Sydney:20170427T110000
DTEND;TZID=Australia/Sydney:20170427T120000
DTSTAMP:20210301T105626
CREATED:20170413T035409Z
LAST-MODIFIED:20170413T035521Z
UID:1436-1493290800-1493294400@tamworthpowerstationmuseum.com.au
SUMMARY:Heritage Festival: K-6 Education Kit Launch
DESCRIPTION:Join the Tamworth Powerstation Museum as it launches it’s first ever K-6 Educational Kit and Museum Experience. This also includes FREE entry to the museum as part of the heritage festival celebrations. \n\n\n	Related
URL:https://tamworthpowerstationmuseum.com.au/event/heritage-festival-k-6-education-kit-launch/
LOCATION:Tamworth Powerstation Museum\, 216 Peel Street \, Tamworth\, NSW\, 2340\, Australia
END:VEVENT
END:VCALENDAR