BEGIN:VCALENDAR
VERSION:2.0
PRODID:-// - ECPv5.4.0//NONSGML v1.0//EN
CALSCALE:GREGORIAN
METHOD:PUBLISH
X-ORIGINAL-URL:https://tamworthpowerstationmuseum.com.au
X-WR-CALDESC:Events for 
BEGIN:VTIMEZONE
TZID:Australia/Sydney
BEGIN:STANDARD
TZOFFSETFROM:+1100
TZOFFSETTO:+1000
TZNAME:AEST
DTSTART:20190406T160000
END:STANDARD
BEGIN:DAYLIGHT
TZOFFSETFROM:+1000
TZOFFSETTO:+1100
TZNAME:AEDT
DTSTART:20191005T160000
END:DAYLIGHT
END:VTIMEZONE
BEGIN:VEVENT
DTSTART;TZID=Australia/Sydney:20190124T100000
DTEND;TZID=Australia/Sydney:20190124T160000
DTSTAMP:20210301T111904
CREATED:20190107T071009Z
LAST-MODIFIED:20190107T071523Z
UID:1715-1548324000-1548345600@tamworthpowerstationmuseum.com.au
SUMMARY:Country Music Festival 2019 - Steam Engines Running!
DESCRIPTION:Related
URL:https://tamworthpowerstationmuseum.com.au/event/country-music-festival-2019-steam-engines-running/
LOCATION:Tamworth Powerstation Museum\, 216 Peel Street \, Tamworth\, NSW\, 2340\, Australia
END:VEVENT
END:VCALENDAR